BEGIN:VCALENDAR
VERSION:2.0
PRODID:-//wp-events-plugin.com//7.2.3.1//EN
TZID:Europe/Zurich
X-WR-TIMEZONE:Europe/Zurich
BEGIN:VEVENT
UID:399@fcl.hepl.ch
DTSTART;TZID=Europe/Zurich;VALUE=DATE:20240501
DTEND;TZID=Europe/Zurich;VALUE=DATE:20240502
DTSTAMP:20240419T044806Z
URL:https://fcl.hepl.ch/events/cas-bibliothecaires-en-milieu-scolaire-litt
 erature-numerique/
SUMMARY:CAS Bibliothécaires en milieu scolaire - littérature numérique
DESCRIPTION:Dans le cadre du CAS des bibliothécaires scolaires\, une journ
 ée est consacrée à la littérature numérique.\n\nFormatrices: Carole-A
 nne Deschoux et Stephanie Burton
CATEGORIES:Séminaire HEP
LOCATION:Future Classroom Lab HEP – Sébeillon 1\, 1er étage\, Lausanne\
 , Rue de Sébeillon 1\, Lausanne\, 1004\, Suisse
X-APPLE-STRUCTURED-LOCATION;VALUE=URI;X-ADDRESS=Rue de Sébeillon 1\, Lausa
 nne\, 1004\, Suisse;X-APPLE-RADIUS=100;X-TITLE=Future Classroom Lab HEP 
 – Sébeillon 1\, 1er étage\, Lausanne:geo:0,0
END:VEVENT
BEGIN:VTIMEZONE
TZID:Europe/Zurich
X-LIC-LOCATION:Europe/Zurich
BEGIN:DAYLIGHT
DTSTART:20240331T030000
TZOFFSETFROM:+0100
TZOFFSETTO:+0200
TZNAME:CEST
END:DAYLIGHT
END:VTIMEZONE
END:VCALENDAR