BEGIN:VCALENDAR
VERSION:2.0
PRODID:-//wp-events-plugin.com//7.2.3.1//EN
TZID:Europe/Zurich
X-WR-TIMEZONE:Europe/Zurich
BEGIN:VEVENT
UID:451@fcl.hepl.ch
DTSTART;TZID=Europe/Zurich:20250217T133000
DTEND;TZID=Europe/Zurich:20250220T170000
DTSTAMP:20250207T115117Z
URL:https://fcl.hepl.ch/events/missionlune/
SUMMARY:Mission Lune - Relâches 17 - 20 février 2025 COMPLET
DESCRIPTION:Activités numériques pour élèves de 6 à 14 ans durant la s
 emaine de Relâches de février 2025\, du lundi au jeudi. 
ATTACH;FMTTYPE=image/jpeg:https://fcl.hepl.ch/wp-content/uploads/2024/12/N
 asaMoonBase.jpg
CATEGORIES:Animations extrascolaires
LOCATION:Future Classroom Lab HEP – Sébeillon 1\, 1er étage\, Lausanne\
 , Rue de Sébeillon 1\, Lausanne\, 1004\, Suisse
X-APPLE-STRUCTURED-LOCATION;VALUE=URI;X-ADDRESS=Rue de Sébeillon 1\, Lausa
 nne\, 1004\, Suisse;X-APPLE-RADIUS=100;X-TITLE=Future Classroom Lab HEP 
 – Sébeillon 1\, 1er étage\, Lausanne:geo:0,0
END:VEVENT
BEGIN:VTIMEZONE
TZID:Europe/Zurich
X-LIC-LOCATION:Europe/Zurich
BEGIN:STANDARD
DTSTART:20241027T020000
TZOFFSETFROM:+0200
TZOFFSETTO:+0100
TZNAME:CET
END:STANDARD
END:VTIMEZONE
END:VCALENDAR